BEGIN:VCALENDAR
VERSION:2.0
PRODID:-//Altenhasungen - ECPv5.3.2.1//NONSGML v1.0//EN
CALSCALE:GREGORIAN
METHOD:PUBLISH
X-WR-CALNAME:Altenhasungen
X-ORIGINAL-URL:https://altenhasungen.net
X-WR-CALDESC:Veranstaltungen für Altenhasungen
BEGIN:VTIMEZONE
TZID:Europe/Berlin
BEGIN:DAYLIGHT
TZOFFSETFROM:+0100
TZOFFSETTO:+0200
TZNAME:CEST
DTSTART:20180325T010000
END:DAYLIGHT
BEGIN:STANDARD
TZOFFSETFROM:+0200
TZOFFSETTO:+0100
TZNAME:CET
DTSTART:20181028T010000
END:STANDARD
END:VTIMEZONE
BEGIN:VEVENT
DTSTART;TZID=Europe/Berlin:20181023T193000
DTEND;TZID=Europe/Berlin:20181023T203000
DTSTAMP:20260425T213942
CREATED:20171111T123825Z
LAST-MODIFIED:20171111T123825Z
UID:2156-1540323000-1540326600@altenhasungen.net
SUMMARY:Terminabsprache 2019
DESCRIPTION:
URL:https://altenhasungen.net/event/terminabsprache-2019/
LOCATION:Dorfgemeinschaftshaus
END:VEVENT
END:VCALENDAR