BEGIN:VCALENDAR
VERSION:2.0
PRODID:-//Altenhasungen - ECPv5.3.2.1//NONSGML v1.0//EN
CALSCALE:GREGORIAN
METHOD:PUBLISH
X-WR-CALNAME:Altenhasungen
X-ORIGINAL-URL:https://altenhasungen.net
X-WR-CALDESC:Veranstaltungen für Altenhasungen
BEGIN:VTIMEZONE
TZID:Europe/Berlin
BEGIN:DAYLIGHT
TZOFFSETFROM:+0100
TZOFFSETTO:+0200
TZNAME:CEST
DTSTART:20230326T010000
END:DAYLIGHT
BEGIN:STANDARD
TZOFFSETFROM:+0200
TZOFFSETTO:+0100
TZNAME:CET
DTSTART:20231029T010000
END:STANDARD
END:VTIMEZONE
BEGIN:VEVENT
DTSTART;TZID=Europe/Berlin:20230429T190000
DTEND;TZID=Europe/Berlin:20230429T233000
DTSTAMP:20260423T224448
CREATED:20230330T154439Z
LAST-MODIFIED:20230331T122543Z
UID:3964-1682794800-1682811000@altenhasungen.net
SUMMARY:Tanz in den Mai
DESCRIPTION:
URL:https://altenhasungen.net/event/tanz-in-den-mai/
LOCATION:Grillhütte Altenhasungen
END:VEVENT
END:VCALENDAR