BEGIN:VCALENDAR
VERSION:2.0
PRODID:-//Altenhasungen - ECPv5.3.2.1//NONSGML v1.0//EN
CALSCALE:GREGORIAN
METHOD:PUBLISH
X-WR-CALNAME:Altenhasungen
X-ORIGINAL-URL:https://altenhasungen.net
X-WR-CALDESC:Veranstaltungen für Altenhasungen
BEGIN:VTIMEZONE
TZID:Europe/Berlin
BEGIN:DAYLIGHT
TZOFFSETFROM:+0100
TZOFFSETTO:+0200
TZNAME:CEST
DTSTART:20250330T010000
END:DAYLIGHT
BEGIN:STANDARD
TZOFFSETFROM:+0200
TZOFFSETTO:+0100
TZNAME:CET
DTSTART:20251026T010000
END:STANDARD
END:VTIMEZONE
BEGIN:VEVENT
DTSTART;TZID=Europe/Berlin:20250430T180000
DTEND;TZID=Europe/Berlin:20250430T233000
DTSTAMP:20260423T155709
CREATED:20250201T132848Z
LAST-MODIFIED:20250201T132848Z
UID:4473-1746036000-1746055800@altenhasungen.net
SUMMARY:Tanz in den Mai
DESCRIPTION:
URL:https://altenhasungen.net/event/tanz-in-den-mai-2/
LOCATION:Gasthaus zum Bärenberg\, Bärenbergstraße 44\, Altenhasungen
END:VEVENT
END:VCALENDAR