BEGIN:VCALENDAR
VERSION:2.0
PRODID:-//Altenhasungen - ECPv5.3.2.1//NONSGML v1.0//EN
CALSCALE:GREGORIAN
METHOD:PUBLISH
X-WR-CALNAME:Altenhasungen
X-ORIGINAL-URL:https://altenhasungen.net
X-WR-CALDESC:Veranstaltungen für Altenhasungen
BEGIN:VTIMEZONE
TZID:Europe/Berlin
BEGIN:DAYLIGHT
TZOFFSETFROM:+0100
TZOFFSETTO:+0200
TZNAME:CEST
DTSTART:20180325T010000
END:DAYLIGHT
BEGIN:STANDARD
TZOFFSETFROM:+0200
TZOFFSETTO:+0100
TZNAME:CET
DTSTART:20181028T010000
END:STANDARD
END:VTIMEZONE
BEGIN:VEVENT
DTSTART;TZID=Europe/Berlin:20180401T053000
DTEND;TZID=Europe/Berlin:20180401T100000
DTSTAMP:20260425T051645
CREATED:20171111T122633Z
LAST-MODIFIED:20171111T122633Z
UID:2124-1522560600-1522576800@altenhasungen.net
SUMMARY:Osternacht-Gottesdienst mit anschließenden Frühstück
DESCRIPTION:
URL:https://altenhasungen.net/event/osternacht-gottesdienst-mit-anschliessenden-fruehstueck/
LOCATION:Kirche\, Altenhasungen
END:VEVENT
END:VCALENDAR