BEGIN:VCALENDAR
VERSION:2.0
PRODID:-//Altenhasungen - ECPv5.3.2.1//NONSGML v1.0//EN
CALSCALE:GREGORIAN
METHOD:PUBLISH
X-WR-CALNAME:Altenhasungen
X-ORIGINAL-URL:https://altenhasungen.net
X-WR-CALDESC:Veranstaltungen für Altenhasungen
BEGIN:VTIMEZONE
TZID:Europe/Berlin
BEGIN:DAYLIGHT
TZOFFSETFROM:+0100
TZOFFSETTO:+0200
TZNAME:CEST
DTSTART:20250330T010000
END:DAYLIGHT
BEGIN:STANDARD
TZOFFSETFROM:+0200
TZOFFSETTO:+0100
TZNAME:CET
DTSTART:20251026T010000
END:STANDARD
END:VTIMEZONE
BEGIN:VEVENT
DTSTART;TZID=Europe/Berlin:20250501T090000
DTEND;TZID=Europe/Berlin:20250501T170000
DTSTAMP:20260423T125546
CREATED:20250201T132922Z
LAST-MODIFIED:20250201T132922Z
UID:4475-1746090000-1746118800@altenhasungen.net
SUMMARY:Maifest / Maibaum aufstellen
DESCRIPTION:
URL:https://altenhasungen.net/event/maifest-maibaum-aufstellen/
LOCATION:Gasthaus zum Bärenberg\, Bärenbergstraße 44\, Altenhasungen
END:VEVENT
END:VCALENDAR