BEGIN:VCALENDAR
VERSION:2.0
PRODID:-//Altenhasungen - ECPv5.3.2.1//NONSGML v1.0//EN
CALSCALE:GREGORIAN
METHOD:PUBLISH
X-WR-CALNAME:Altenhasungen
X-ORIGINAL-URL:https://altenhasungen.net
X-WR-CALDESC:Veranstaltungen für Altenhasungen
BEGIN:VTIMEZONE
TZID:Europe/Berlin
BEGIN:DAYLIGHT
TZOFFSETFROM:+0100
TZOFFSETTO:+0200
TZNAME:CEST
DTSTART:20180325T010000
END:DAYLIGHT
BEGIN:STANDARD
TZOFFSETFROM:+0200
TZOFFSETTO:+0100
TZNAME:CET
DTSTART:20181028T010000
END:STANDARD
END:VTIMEZONE
BEGIN:VEVENT
DTSTART;VALUE=DATE:20180303
DTEND;VALUE=DATE:20180304
DTSTAMP:20260424T224656
CREATED:20171111T122202Z
LAST-MODIFIED:20171111T122202Z
UID:2114-1520035200-1520121599@altenhasungen.net
SUMMARY:JHV Nabu
DESCRIPTION:
URL:https://altenhasungen.net/event/jhv-nabu/
END:VEVENT
END:VCALENDAR