BEGIN:VCALENDAR
VERSION:2.0
PRODID:-//Altenhasungen - ECPv5.3.2.1//NONSGML v1.0//EN
CALSCALE:GREGORIAN
METHOD:PUBLISH
X-WR-CALNAME:Altenhasungen
X-ORIGINAL-URL:https://altenhasungen.net
X-WR-CALDESC:Veranstaltungen für Altenhasungen
BEGIN:VTIMEZONE
TZID:Europe/Berlin
BEGIN:DAYLIGHT
TZOFFSETFROM:+0100
TZOFFSETTO:+0200
TZNAME:CEST
DTSTART:20250330T010000
END:DAYLIGHT
BEGIN:STANDARD
TZOFFSETFROM:+0200
TZOFFSETTO:+0100
TZNAME:CET
DTSTART:20251026T010000
END:STANDARD
END:VTIMEZONE
BEGIN:VEVENT
DTSTART;VALUE=DATE:20250315
DTEND;VALUE=DATE:20250316
DTSTAMP:20260423T224744
CREATED:20250201T132429Z
LAST-MODIFIED:20250201T132429Z
UID:4459-1741996800-1742083199@altenhasungen.net
SUMMARY:JHV NABU
DESCRIPTION:
URL:https://altenhasungen.net/event/jhv-nabu-4/
LOCATION:Gasthaus zum Bärenberg\, Bärenbergstraße 44\, Altenhasungen
END:VEVENT
END:VCALENDAR