BEGIN:VCALENDAR
VERSION:2.0
PRODID:-//Altenhasungen - ECPv5.3.2.1//NONSGML v1.0//EN
CALSCALE:GREGORIAN
METHOD:PUBLISH
X-WR-CALNAME:Altenhasungen
X-ORIGINAL-URL:https://altenhasungen.net
X-WR-CALDESC:Veranstaltungen für Altenhasungen
BEGIN:VTIMEZONE
TZID:Europe/Berlin
BEGIN:DAYLIGHT
TZOFFSETFROM:+0100
TZOFFSETTO:+0200
TZNAME:CEST
DTSTART:20260329T010000
END:DAYLIGHT
BEGIN:STANDARD
TZOFFSETFROM:+0200
TZOFFSETTO:+0100
TZNAME:CET
DTSTART:20261025T010000
END:STANDARD
END:VTIMEZONE
BEGIN:VEVENT
DTSTART;VALUE=DATE:20260920
DTEND;VALUE=DATE:20260921
DTSTAMP:20260422T011041
CREATED:20260103T162154Z
LAST-MODIFIED:20260103T162154Z
UID:4748-1789862400-1789948799@altenhasungen.net
SUMMARY:Goldene Konfirmation
DESCRIPTION:
URL:https://altenhasungen.net/event/goldene-konfirmation-3/
END:VEVENT
END:VCALENDAR