BEGIN:VCALENDAR
VERSION:2.0
PRODID:-//Altenhasungen - ECPv5.3.2.1//NONSGML v1.0//EN
CALSCALE:GREGORIAN
METHOD:PUBLISH
X-WR-CALNAME:Altenhasungen
X-ORIGINAL-URL:https://altenhasungen.net
X-WR-CALDESC:Veranstaltungen für Altenhasungen
BEGIN:VTIMEZONE
TZID:Europe/Berlin
BEGIN:DAYLIGHT
TZOFFSETFROM:+0100
TZOFFSETTO:+0200
TZNAME:CEST
DTSTART:20190331T010000
END:DAYLIGHT
BEGIN:STANDARD
TZOFFSETFROM:+0200
TZOFFSETTO:+0100
TZNAME:CET
DTSTART:20191027T010000
END:STANDARD
END:VTIMEZONE
BEGIN:VEVENT
DTSTART;TZID=Europe/Berlin:20190106T090000
DTEND;TZID=Europe/Berlin:20190106T110000
DTSTAMP:20260425T175132
CREATED:20181118T171142Z
LAST-MODIFIED:20181118T171142Z
UID:2471-1546765200-1546772400@altenhasungen.net
SUMMARY:Frühstücksgottesdienst
DESCRIPTION:
URL:https://altenhasungen.net/event/fruehstuecksgottesdienst/
LOCATION:Gemeindescheune\, Altenhasungen
END:VEVENT
END:VCALENDAR