BEGIN:VCALENDAR
VERSION:2.0
PRODID:-//Altenhasungen - ECPv5.3.2.1//NONSGML v1.0//EN
CALSCALE:GREGORIAN
METHOD:PUBLISH
X-WR-CALNAME:Altenhasungen
X-ORIGINAL-URL:https://altenhasungen.net
X-WR-CALDESC:Veranstaltungen für Altenhasungen
BEGIN:VTIMEZONE
TZID:Europe/Berlin
BEGIN:DAYLIGHT
TZOFFSETFROM:+0100
TZOFFSETTO:+0200
TZNAME:CEST
DTSTART:20220327T010000
END:DAYLIGHT
BEGIN:STANDARD
TZOFFSETFROM:+0200
TZOFFSETTO:+0100
TZNAME:CET
DTSTART:20221030T010000
END:STANDARD
END:VTIMEZONE
BEGIN:VEVENT
DTSTART;VALUE=DATE:20220526
DTEND;VALUE=DATE:20220527
DTSTAMP:20260424T051309
CREATED:20220507T191419Z
LAST-MODIFIED:20220507T191419Z
UID:3825-1653523200-1653609599@altenhasungen.net
SUMMARY:Christi Himmelfahrt mit Vorstellung von Pfarrerin Isabell Paul
DESCRIPTION:
URL:https://altenhasungen.net/event/christi-himmelfahrt-mit-vorstellung-von-pfarrerin-isabell-paul/
LOCATION:Kirmeszelt Istha
END:VEVENT
END:VCALENDAR